BEGIN:VCALENDAR
PRODID:brasil.gov.agenda
VERSION:1.0
BEGIN:VEVENT
DTSTART:20210520T090000Z
DTEND:20210520T100000Z
DCREATED:20210521T132806Z
UID:Compromisso-ff5786eae1cd4c1ba00005303fe47a22
SEQUENCE:0
LAST-MODIFIED:20210521T132848Z
SUMMARY:Reunião com pró-reitores\, diretores e representante técnico de laboratório
DESCRIPTION:Organização do Laboratório COVID Mucuri
LOCATION:Compromisso on-line
PRIORITY:3
TRANSP:0
END:VEVENT
END:VCALENDAR
