BEGIN:VCALENDAR
PRODID:brasil.gov.agenda
VERSION:1.0
BEGIN:VEVENT
DTSTART:20210520T080000Z
DTEND:20210520T090000Z
DCREATED:20210521T131229Z
UID:Compromisso-74cd1f35f04d40a1ad80633975bd8927
SEQUENCE:0
LAST-MODIFIED:20210521T131229Z
SUMMARY:Reunião com Comandante da Guarda Municipal de Diamantina
DESCRIPTION:Parceria interinstitucional
LOCATION:Reitoria
PRIORITY:3
TRANSP:0
END:VEVENT
END:VCALENDAR
