BEGIN:VCALENDAR
PRODID:brasil.gov.agenda
VERSION:1.0
BEGIN:VEVENT
DTSTART:20210520T140000Z
DTEND:20210520T180000Z
DCREATED:20210521T133220Z
UID:Compromisso-550d6a44ed254805895a0d7a6f2d9574
SEQUENCE:0
LAST-MODIFIED:20210521T133348Z
SUMMARY:Despachos Internos
LOCATION:Reitoria
PRIORITY:3
TRANSP:0
END:VEVENT
END:VCALENDAR
