BEGIN:VCALENDAR
PRODID:brasil.gov.agenda
VERSION:1.0
BEGIN:VEVENT
DTSTART:20210519T100000Z
DTEND:20210519T110000Z
DCREATED:20210519T111258Z
UID:Compromisso-2604e4280208445aa49fff401bb70e9b
SEQUENCE:0
LAST-MODIFIED:20210519T111341Z
SUMMARY:Reunião com servidora
DESCRIPTION:Comissões Permanentes
LOCATION:Reitoria
PRIORITY:3
TRANSP:0
END:VEVENT
END:VCALENDAR
