BEGIN:VCALENDAR
PRODID:brasil.gov.agenda
VERSION:1.0
BEGIN:VEVENT
DTSTART:20210519T080000Z
DTEND:20210519T090000Z
DCREATED:20210521T142836Z
UID:Compromisso-fd4c73dcea484dd8a7a58ad136a04882
SEQUENCE:0
LAST-MODIFIED:20210521T142836Z
SUMMARY:Despachos Internos
LOCATION:Reitoria
PRIORITY:3
TRANSP:0
END:VEVENT
END:VCALENDAR
