BEGIN:VCALENDAR
PRODID:brasil.gov.agenda
VERSION:1.0
BEGIN:VEVENT
DTSTART:20210519T140000Z
DTEND:20210519T180000Z
DCREATED:20210521T142858Z
UID:Compromisso-2ab14f1f4d0541c9b3c1d5a55e78a22b
SEQUENCE:0
LAST-MODIFIED:20210521T142859Z
SUMMARY:Despachos Internos
LOCATION:Reitoria
PRIORITY:3
TRANSP:0
END:VEVENT
END:VCALENDAR
