BEGIN:VCALENDAR
PRODID:brasil.gov.agenda
VERSION:1.0
BEGIN:VEVENT
DTSTART:20210518T100000Z
DTEND:20210518T120000Z
DCREATED:20210519T110556Z
UID:Compromisso-558229d930d24cbdbb4abd2dcbba63bb
SEQUENCE:0
LAST-MODIFIED:20210519T110556Z
SUMMARY:Reunião com a Secretaria de Processo Administrativo (SecPad)
DESCRIPTION:Demandas internas
LOCATION:Reitoria
PRIORITY:3
TRANSP:0
END:VEVENT
END:VCALENDAR
