BEGIN:VCALENDAR
PRODID:brasil.gov.agenda
VERSION:1.0
BEGIN:VEVENT
DTSTART:20210518T090000Z
DTEND:20210518T100000Z
DCREATED:20210519T110444Z
UID:Compromisso-603774a8331443b9bc93f7f881a70dbd
SEQUENCE:0
LAST-MODIFIED:20210519T110444Z
SUMMARY:Reunião com a Diretoria de Educação Aberta e a Distância (DEAD)
DESCRIPTION:Cursos Tecnológicos
LOCATION:Reitoria
PRIORITY:3
TRANSP:0
END:VEVENT
END:VCALENDAR
