BEGIN:VCALENDAR
PRODID:brasil.gov.agenda
VERSION:1.0
BEGIN:VEVENT
DTSTART:20210518T080000Z
DTEND:20210518T090000Z
DCREATED:20210519T110341Z
UID:Compromisso-0b9ef3e374924ad8a0fa564bdd2c1417
SEQUENCE:0
LAST-MODIFIED:20210519T110646Z
SUMMARY:Reunião com a Diretoria de Convênios e Contratos
DESCRIPTION:Regimento Interno
LOCATION:Reitoria
PRIORITY:3
TRANSP:0
END:VEVENT
END:VCALENDAR
