BEGIN:VCALENDAR
PRODID:brasil.gov.agenda
VERSION:1.0
BEGIN:VEVENT
DTSTART:20210517T110000Z
DTEND:20210517T120000Z
DCREATED:20210519T110934Z
UID:Compromisso-e50b69bb97de4ffd8830433547a33e99
SEQUENCE:0
LAST-MODIFIED:20210519T111003Z
SUMMARY:Reunião na Prefeitura Municipal de Diamantina/MG
DESCRIPTION:Aulas práticas do Curso de Medicina de Diamantina
LOCATION:Prefeitura - Diamantina/MG
PRIORITY:3
TRANSP:0
END:VEVENT
END:VCALENDAR
