BEGIN:VCALENDAR
PRODID:brasil.gov.agenda
VERSION:1.0
BEGIN:VEVENT
DTSTART:20210517T143000Z
DTEND:20210517T170000Z
DCREATED:20210517T150108Z
UID:Compromisso-21946908fa4d45a995246afb6667e381
SEQUENCE:0
LAST-MODIFIED:20210517T150108Z
SUMMARY:Reunião com a Secretaria do Consu
DESCRIPTION:Elaboração de pauta de reunião
LOCATION:Reitoria
PRIORITY:3
TRANSP:0
END:VEVENT
END:VCALENDAR
