BEGIN:VCALENDAR
PRODID:brasil.gov.agenda
VERSION:1.0
BEGIN:VEVENT
DTSTART:20210517T090000Z
DTEND:20210517T093000Z
DCREATED:20210517T145601Z
UID:Compromisso-2435b0cd2cc9427780e0afa6a1a373b0
SEQUENCE:0
LAST-MODIFIED:20210517T145601Z
SUMMARY:Reunião com a Pró-Reitoria de Pesquisa e Pós-Graduação (PRPPG)
DESCRIPTION:Orçamento
LOCATION:Reitoria
PRIORITY:3
TRANSP:0
END:VEVENT
END:VCALENDAR
