BEGIN:VCALENDAR
PRODID:brasil.gov.agenda
VERSION:1.0
BEGIN:VEVENT
DTSTART:20210517T093000Z
DTEND:20210517T100000Z
DCREATED:20210517T145721Z
UID:Compromisso-f4f118790d394c298e06ed2c65a82686
SEQUENCE:0
LAST-MODIFIED:20210517T145721Z
SUMMARY:Reunião com a  Pró-Reitoria de Pesquisa e Pós-Graduação (PROGRAD)
DESCRIPTION:Orçamento
LOCATION:Reitoria
PRIORITY:3
TRANSP:0
END:VEVENT
END:VCALENDAR
