BEGIN:VCALENDAR
PRODID:brasil.gov.agenda
VERSION:1.0
BEGIN:VEVENT
DTSTART:20210517T080000Z
DTEND:20210517T090000Z
DCREATED:20210517T145422Z
UID:Compromisso-74293e22e6a648cca54f97f4d7ffb9c4
SEQUENCE:0
LAST-MODIFIED:20210517T145422Z
SUMMARY:22ª Reunião do Comitê de Governança\, Integridade\, Riscos e Controles - CGIRC
LOCATION:Compromisso on-line
PRIORITY:3
TRANSP:0
END:VEVENT
END:VCALENDAR
