BEGIN:VCALENDAR
PRODID:brasil.gov.agenda
VERSION:1.0
BEGIN:VEVENT
DTSTART:20210514T080000Z
DTEND:20210514T090000Z
DCREATED:20210514T123116Z
UID:Compromisso-ef5abb84e44e4dd795e0d2307a5ccb3c
SEQUENCE:0
LAST-MODIFIED:20210514T123116Z
SUMMARY:Reunião com pró-reitorias
DESCRIPTION:Simec - Cadastro de obras - Atualização online
LOCATION:Compromisso on-line
PRIORITY:3
TRANSP:0
END:VEVENT
END:VCALENDAR
