BEGIN:VCALENDAR
PRODID:brasil.gov.agenda
VERSION:1.0
BEGIN:VEVENT
DTSTART:20210514T100000Z
DTEND:20210514T110000Z
DCREATED:20210514T122859Z
UID:Compromisso-1a6ccad823f2446ca4d0b09bdea14437
SEQUENCE:0
LAST-MODIFIED:20210514T122944Z
SUMMARY:Reunião com pró-reitorias
DESCRIPTION:Ensino Híbrido - Recursos/Operacionalização
LOCATION:Compromisso on-line
PRIORITY:3
TRANSP:0
END:VEVENT
END:VCALENDAR
