BEGIN:VCALENDAR
PRODID:brasil.gov.agenda
VERSION:1.0
BEGIN:VEVENT
DTSTART:20210514T140000Z
DTEND:20210514T150000Z
DCREATED:20210514T124252Z
UID:Compromisso-32e3d9e5917740a29684f68831f97c7b
SEQUENCE:0
LAST-MODIFIED:20210514T124252Z
SUMMARY:Reunião com o Prefeito de Turmalina
DESCRIPTION:Efetivação de um projeto de cooperação técnica de um 
 projeto de cooperação técnica que envolve a implantação de um amb
 iente virtual de aprendizagem pelo LAPROCE -UFVJM
LOCATION:Compromisso on-line
PRIORITY:3
TRANSP:0
END:VEVENT
END:VCALENDAR
