BEGIN:VCALENDAR
PRODID:brasil.gov.agenda
VERSION:1.0
BEGIN:VEVENT
DTSTART:20210514T100000Z
DTEND:20210514T130000Z
DCREATED:20210514T123601Z
UID:Compromisso-23736f2c3c1d435e91eb71f12c2a4604
SEQUENCE:0
LAST-MODIFIED:20210514T123601Z
SUMMARY:Reunião com a Turma 07 de Medicina de Diamantina
DESCRIPTION:Atividades práticas anteriores aos internatos
LOCATION:Compromisso on-line
PRIORITY:3
TRANSP:0
END:VEVENT
END:VCALENDAR
