BEGIN:VCALENDAR
PRODID:brasil.gov.agenda
VERSION:1.0
BEGIN:VEVENT
DTSTART:20210514T150000Z
DTEND:20210514T160000Z
DCREATED:20210517T150449Z
UID:Compromisso-6b6211401b264e468331d05add303470
SEQUENCE:0
LAST-MODIFIED:20210517T150449Z
SUMMARY:Reunião com a Diretoria de Tecnologia da Informação (DTI)
DESCRIPTION:Situação de suporte técnico e manutenção em computado
 r
LOCATION:Reitoria
PRIORITY:3
TRANSP:0
END:VEVENT
END:VCALENDAR
