BEGIN:VCALENDAR
PRODID:brasil.gov.agenda
VERSION:1.0
BEGIN:VEVENT
DTSTART:20210513T163000Z
DTEND:20210513T173000Z
DCREATED:20210513T134922Z
UID:Compromisso-a39a4648c10f42d780a7fc383cf8e611
SEQUENCE:0
LAST-MODIFIED:20210514T120107Z
SUMMARY:Reunião com responsáveis pela unidade de correição
DESCRIPTION:Alinhamento interno
LOCATION:Compromisso on-line
PRIORITY:3
TRANSP:0
END:VEVENT
END:VCALENDAR
