BEGIN:VCALENDAR
PRODID:brasil.gov.agenda
VERSION:1.0
BEGIN:VEVENT
DTSTART:20210513T090000Z
DTEND:20210513T110000Z
DCREATED:20210514T121326Z
UID:Compromisso-f41d88af938f417586967a93d77ca80b
SEQUENCE:0
LAST-MODIFIED:20210514T121326Z
SUMMARY:Reunião com o reitor da Universidade Federal de Itajubá (UNIFEI)
DESCRIPTION:Parceira Interinstitucional
LOCATION:Compromisso on-line
PRIORITY:3
TRANSP:0
END:VEVENT
END:VCALENDAR
