BEGIN:VCALENDAR
PRODID:brasil.gov.agenda
VERSION:1.0
BEGIN:VEVENT
DTSTART:20210513T080000Z
DTEND:20210513T090000Z
DCREATED:20210513T135318Z
UID:Compromisso-3d2647421eae47f88ed6e729931ae553
SEQUENCE:0
LAST-MODIFIED:20210514T120029Z
SUMMARY:Reunião com a Divisão de Fazendas e Produção Agropecuária
DESCRIPTION:Alinhamento interno das atividades da divisão
LOCATION:Compromisso on-line
PRIORITY:3
TRANSP:0
END:VEVENT
END:VCALENDAR
