BEGIN:VCALENDAR
PRODID:brasil.gov.agenda
VERSION:1.0
BEGIN:VEVENT
DTSTART:20210512T080000Z
DTEND:20210512T123000Z
DCREATED:20210511T212837Z
UID:Compromisso-1e02950fdfe84c0bbe4ca25ae38a6dbb
SEQUENCE:0
LAST-MODIFIED:20210513T133632Z
SUMMARY:Reunião com o Procurador da República do Município de Sete Lagoas
DESCRIPTION:Frederico Pellucci
LOCATION:Reitoria
PRIORITY:3
TRANSP:0
END:VEVENT
END:VCALENDAR
