BEGIN:VCALENDAR
PRODID:brasil.gov.agenda
VERSION:1.0
BEGIN:VEVENT
DTSTART:20210512T140000Z
DTEND:20210512T180000Z
DCREATED:20210513T133858Z
UID:Compromisso-fbeeb7f530904f5997ed00714165a921
SEQUENCE:0
LAST-MODIFIED:20210513T133858Z
SUMMARY:Despachos Internos
LOCATION:Reitoria
PRIORITY:3
TRANSP:0
END:VEVENT
END:VCALENDAR
