BEGIN:VCALENDAR
PRODID:brasil.gov.agenda
VERSION:1.0
BEGIN:VEVENT
DTSTART:20210511T080000Z
DTEND:20210511T100000Z
DCREATED:20210511T163231Z
UID:Compromisso-8696d84c8ae64217adda593ed9109a6c
SEQUENCE:0
LAST-MODIFIED:20210511T163231Z
SUMMARY:ReuniÃ£o com prÃ³-reitorias e diretorias de unidade acadÃªmica
DESCRIPTION:EscritÃ³rio de processos: apresentaÃ§Ã£o e operacionalizaÃ
 §Ã£o
LOCATION:Compromisso on-line
PRIORITY:3
TRANSP:0
END:VEVENT
END:VCALENDAR
