BEGIN:VCALENDAR
PRODID:brasil.gov.agenda
VERSION:1.0
BEGIN:VEVENT
DTSTART:20210511T140000Z
DTEND:20210511T160000Z
DCREATED:20210511T163558Z
UID:Compromisso-1ba2099628994755aa57b8d20a3fb4a4
SEQUENCE:0
LAST-MODIFIED:20210511T163625Z
SUMMARY:241ª reunião\, sendo a 98ª sessão em caráter extraordinário do CONSU
LOCATION:Compromisso on-line
PRIORITY:3
TRANSP:0
END:VEVENT
END:VCALENDAR
