BEGIN:VCALENDAR
PRODID:brasil.gov.agenda
VERSION:1.0
BEGIN:VEVENT
DTSTART:20210510T080000Z
DTEND:20210510T093000Z
DCREATED:20210510T122356Z
UID:Compromisso-910db177a9dc4db09b4c3349729ab084
SEQUENCE:0
LAST-MODIFIED:20210510T122356Z
SUMMARY:Reunião do Comitê de Governança\, Integridade\, Riscos e Controle - CGIRC
LOCATION:Compromisso on-line
PRIORITY:3
TRANSP:0
END:VEVENT
END:VCALENDAR
