BEGIN:VCALENDAR
PRODID:brasil.gov.agenda
VERSION:1.0
BEGIN:VEVENT
DTSTART:20210510T093000Z
DTEND:20210510T103000Z
DCREATED:20210510T122535Z
UID:Compromisso-eef48f08117b4ce184992fde0f161dbe
SEQUENCE:0
LAST-MODIFIED:20210510T122535Z
SUMMARY:Reunião com a Pró-Reitoria de Administração
DESCRIPTION:Organização das atividades nas diretorias
LOCATION:Compromisso on-line
PRIORITY:3
TRANSP:0
END:VEVENT
END:VCALENDAR
