BEGIN:VCALENDAR
PRODID:brasil.gov.agenda
VERSION:1.0
BEGIN:VEVENT
DTSTART:20210510T140000Z
DTEND:20210510T180000Z
DCREATED:20210510T122603Z
UID:Compromisso-abfcf40a2f7c4b0da20def9dd47f35d6
SEQUENCE:0
LAST-MODIFIED:20210510T122604Z
SUMMARY:Despachos Internos
LOCATION:Reitoria
PRIORITY:3
TRANSP:0
END:VEVENT
END:VCALENDAR
