BEGIN:VCALENDAR
PRODID:brasil.gov.agenda
VERSION:1.0
BEGIN:VEVENT
DTSTART:20210507T150000Z
DTEND:20210507T160000Z
DCREATED:20210507T164953Z
UID:Compromisso-ca84d65669854a8687c25321ce04e06b
SEQUENCE:0
LAST-MODIFIED:20210507T165035Z
SUMMARY:Reunião com pró-reitorias e diretorias
DESCRIPTION:Organização dos setores de produção e serviços
LOCATION:Reitoria
PRIORITY:3
TRANSP:0
END:VEVENT
END:VCALENDAR
