BEGIN:VCALENDAR
PRODID:brasil.gov.agenda
VERSION:1.0
BEGIN:VEVENT
DTSTART:20210507T080000Z
DTEND:20210507T120000Z
DCREATED:20210507T164606Z
UID:Compromisso-3aeb33ca9f8c4023a617776133b223f8
SEQUENCE:0
LAST-MODIFIED:20210507T164606Z
SUMMARY:Despachos Internos
LOCATION:Reitoria
PRIORITY:3
TRANSP:0
END:VEVENT
END:VCALENDAR
