BEGIN:VCALENDAR
PRODID:brasil.gov.agenda
VERSION:1.0
BEGIN:VEVENT
DTSTART:20210506T090000Z
DTEND:20210506T100000Z
DCREATED:20210506T171755Z
UID:Compromisso-bffa6053e34a44ebb607908bc6c62c16
SEQUENCE:0
LAST-MODIFIED:20210506T171755Z
SUMMARY:Entrevista TV Vale
PRIORITY:3
TRANSP:0
END:VEVENT
END:VCALENDAR
