BEGIN:VCALENDAR
PRODID:brasil.gov.agenda
VERSION:1.0
BEGIN:VEVENT
DTSTART:20210505T160000Z
DTEND:20210505T170000Z
DCREATED:20210506T174755Z
UID:Compromisso-8822dbdec0fc42578585d4ef4e5adbac
SEQUENCE:0
LAST-MODIFIED:20210506T174755Z
SUMMARY:Reunião com a Pró-Reitoria de Planejamento e Orçamento (PROPLAN)
DESCRIPTION:Monitoramento de obras
LOCATION:Reitoria
PRIORITY:3
TRANSP:0
END:VEVENT
END:VCALENDAR
