BEGIN:VCALENDAR
PRODID:brasil.gov.agenda
VERSION:1.0
BEGIN:VEVENT
DTSTART:20210505T140000Z
DTEND:20210505T150000Z
DCREATED:20210506T174037Z
UID:Compromisso-36265de4c8a54b808e3f396299bd002b
SEQUENCE:0
LAST-MODIFIED:20210506T174037Z
SUMMARY:Reunião com a Faculdade Interdisciplinar em Humanidades
DESCRIPTION:Reposição de Técnicos Administrativos
LOCATION:Reitoria
PRIORITY:3
TRANSP:0
END:VEVENT
END:VCALENDAR
