BEGIN:VCALENDAR
PRODID:brasil.gov.agenda
VERSION:1.0
BEGIN:VEVENT
DTSTART:20210504T102000Z
DTEND:20210504T103000Z
DCREATED:20210504T120439Z
UID:Compromisso-b3a6128f7d05447fbf4fb4e552d6915e
SEQUENCE:0
LAST-MODIFIED:20210504T132501Z
SUMMARY:Sessão de posse
LOCATION:Reitoria
PRIORITY:3
TRANSP:0
END:VEVENT
END:VCALENDAR
