BEGIN:VCALENDAR
PRODID:brasil.gov.agenda
VERSION:1.0
BEGIN:VEVENT
DTSTART:20210504T080000Z
DTEND:20210504T090000Z
DCREATED:20210504T115558Z
UID:Compromisso-5f583038219a454da97ed2b92d4f24a0
SEQUENCE:0
LAST-MODIFIED:20210504T115558Z
SUMMARY:Reunião do Comitê de Governança\, Integridade\, Riscos e Controle - CGIRC
LOCATION:Compromisso on-line
PRIORITY:3
TRANSP:0
END:VEVENT
END:VCALENDAR
