BEGIN:VCALENDAR
PRODID:brasil.gov.agenda
VERSION:1.0
BEGIN:VEVENT
DTSTART:20210504T091000Z
DTEND:20210504T101000Z
DCREATED:20210504T120000Z
UID:Compromisso-d24d88eccdc948588a32ab0d7dad508d
SEQUENCE:0
LAST-MODIFIED:20210504T120040Z
SUMMARY:Reunião com a Comissão responsável pela elaboração do plano de atendimento aos discentes residentes na Moraria Estudantil para o Ensino Remoto\, para retorno na ocasião do início das aulas presenciais
DESCRIPTION:Esclarecimentos da comissão
LOCATION:Compromisso on-line
PRIORITY:3
TRANSP:0
END:VEVENT
END:VCALENDAR
