BEGIN:VCALENDAR
PRODID:brasil.gov.agenda
VERSION:1.0
BEGIN:VEVENT
DTSTART:20210504T103000Z
DTEND:20210504T110000Z
DCREATED:20210504T120333Z
UID:Compromisso-2aeec6dd53db402498f960c90ef2177b
SEQUENCE:0
LAST-MODIFIED:20210504T120333Z
SUMMARY:Reunião Carta de Serviços do Escritório de Processos
LOCATION:Compromisso on-line
PRIORITY:3
TRANSP:0
END:VEVENT
END:VCALENDAR
