BEGIN:VCALENDAR
PRODID:brasil.gov.agenda
VERSION:1.0
BEGIN:VEVENT
DTSTART:20210503T100000Z
DTEND:20210503T120000Z
DCREATED:20210503T111812Z
UID:Compromisso-453eee87808643f0a3f53e786ed3ddca
SEQUENCE:0
LAST-MODIFIED:20210503T111845Z
SUMMARY:16ª reunião do CONSIC
LOCATION:Compromisso on-line
PRIORITY:3
TRANSP:0
END:VEVENT
END:VCALENDAR
