BEGIN:VCALENDAR
PRODID:brasil.gov.agenda
VERSION:1.0
BEGIN:VEVENT
DTSTART:20210501T080000Z
DTEND:20210501T100000Z
DCREATED:20210531T114707Z
UID:Compromisso-9a962ceff8414740a460873b1daeb85b
SEQUENCE:0
LAST-MODIFIED:20210531T114818Z
SUMMARY:Reunião com o Departamento do Curso de Odontologia e Faculdades
DESCRIPTION:Demanda do curso de Odontologia - Informações sobre aces
 so ao Prédio II pela portaria principal do Prédio I
LOCATION:Compromisso on-line
PRIORITY:3
TRANSP:0
END:VEVENT
END:VCALENDAR
