BEGIN:VCALENDAR
PRODID:brasil.gov.agenda
VERSION:1.0
BEGIN:VEVENT
DTSTART:20210430T140000Z
DTEND:20210430T153000Z
DCREATED:20210430T194332Z
UID:Compromisso-0144274409c74203991833e2a267d8d6
SEQUENCE:0
LAST-MODIFIED:20210430T194722Z
SUMMARY:Reunião com pró-reitorias
DESCRIPTION:Orçamento - Distribuição
LOCATION:Compromisso on-line
PRIORITY:3
TRANSP:0
END:VEVENT
END:VCALENDAR
