BEGIN:VCALENDAR
PRODID:brasil.gov.agenda
VERSION:1.0
BEGIN:VEVENT
DTSTART:20210430T080000Z
DTEND:20210430T090000Z
DCREATED:20210430T120703Z
UID:Compromisso-c29d7ea56fa24b139fca0534412bb74e
SEQUENCE:0
LAST-MODIFIED:20210430T193943Z
SUMMARY:Reunião com o senhor Leonardo Soeiro Pinheiro
DESCRIPTION:Vitivinicultura na Região de Diamantina
LOCATION:Reitoria
PRIORITY:3
TRANSP:0
END:VEVENT
END:VCALENDAR
