BEGIN:VCALENDAR
PRODID:brasil.gov.agenda
VERSION:1.0
BEGIN:VEVENT
DTSTART:20210430T100000Z
DTEND:20210430T120000Z
DCREATED:20210430T194009Z
UID:Compromisso-4e273d5e55d74d4aaf3ddbe44bdf0163
SEQUENCE:0
LAST-MODIFIED:20210430T194655Z
SUMMARY:164ª reunião em caráter ordinário do CONSEPE
LOCATION:Compromisso on-line
PRIORITY:3
TRANSP:0
END:VEVENT
END:VCALENDAR
