BEGIN:VCALENDAR
PRODID:brasil.gov.agenda
VERSION:1.0
BEGIN:VEVENT
DTSTART:20210429T140000Z
DTEND:20210429T150000Z
DCREATED:20210429T134030Z
UID:Compromisso-dc8827e1513145f1908e2de81cc620f5
SEQUENCE:0
LAST-MODIFIED:20210429T134030Z
SUMMARY:Reunião na Prefeitura Municipal de Curvelo/MG
DESCRIPTION:Ambulatórios FAMED
LOCATION:Prefeitura - Diamantina/MG
PRIORITY:3
TRANSP:0
END:VEVENT
END:VCALENDAR
