BEGIN:VCALENDAR
PRODID:brasil.gov.agenda
VERSION:1.0
BEGIN:VEVENT
DTSTART:20210429T080000Z
DTEND:20210429T090000Z
DCREATED:20210429T114806Z
UID:Compromisso-d54700cb32054efc86ff5a17ef4ff19b
SEQUENCE:0
LAST-MODIFIED:20210429T114806Z
SUMMARY:Reunião com docente
DESCRIPTION:Projetos
LOCATION:Compromisso on-line
PRIORITY:3
TRANSP:0
END:VEVENT
END:VCALENDAR
