BEGIN:VCALENDAR
PRODID:brasil.gov.agenda
VERSION:1.0
BEGIN:VEVENT
DTSTART:20210426T080000Z
DTEND:20210426T100000Z
DCREATED:20210426T123512Z
UID:Compromisso-199af8956664440aaaf47ab3fb728360
SEQUENCE:0
LAST-MODIFIED:20210426T123512Z
SUMMARY:Reunião do Comitê de Governança\, Integridade\, Riscos e Controles - CGIRC
LOCATION:Compromisso online
PRIORITY:3
TRANSP:0
END:VEVENT
END:VCALENDAR
