BEGIN:VCALENDAR
PRODID:brasil.gov.agenda
VERSION:1.0
BEGIN:VEVENT
DTSTART:20210426T110000Z
DTEND:20210426T120000Z
DCREATED:20210426T123536Z
UID:Compromisso-13eaaa80bb3a425985190d336550b1cf
SEQUENCE:0
LAST-MODIFIED:20210426T123536Z
SUMMARY:Despachos Internos
LOCATION:Reitoria
PRIORITY:3
TRANSP:0
END:VEVENT
END:VCALENDAR
