BEGIN:VCALENDAR
PRODID:brasil.gov.agenda
VERSION:1.0
BEGIN:VEVENT
DTSTART:20210422T090000Z
DTEND:20210422T100000Z
DCREATED:20210422T112454Z
UID:Compromisso-69b51aff1ef14e259312e06bb21c759b
SEQUENCE:0
LAST-MODIFIED:20210422T112454Z
SUMMARY:Reunião com Secretaria de Processo Administrativo
DESCRIPTION:Organização administrativa
LOCATION:Reitoria
PRIORITY:3
TRANSP:0
END:VEVENT
END:VCALENDAR
