BEGIN:VCALENDAR
PRODID:brasil.gov.agenda
VERSION:1.0
BEGIN:VEVENT
DTSTART:20210422T080000Z
DTEND:20210422T090000Z
DCREATED:20210422T111854Z
UID:Compromisso-ddb72db17143447f88275f5db31b2995
SEQUENCE:0
LAST-MODIFIED:20210422T111854Z
SUMMARY:Reunião com os servidores da Pró-reitoria de Administração
DESCRIPTION:Organização administrativa da Proad
LOCATION:Compromisso on-line
PRIORITY:3
TRANSP:0
END:VEVENT
END:VCALENDAR
