BEGIN:VCALENDAR
PRODID:brasil.gov.agenda
VERSION:1.0
BEGIN:VEVENT
DTSTART:20210420T000000Z
DTEND:20210420T000000Z
DCREATED:20210420T114433Z
UID:Compromisso-af98241440e34f1fbfa046df3b30ef65
SEQUENCE:0
LAST-MODIFIED:20210420T114433Z
SUMMARY:Reunião com o Município de Diamantina/MG
DESCRIPTION:Ambulatórios da Famed - campus I
LOCATION:Reitoria
PRIORITY:3
TRANSP:0
END:VEVENT
END:VCALENDAR
